Workbook

Sheet Александровский район
A2: Отчет о занимающихся физической культурой и спортом
A4: Наименование муниципального образования | D4: Александровский район
A6: Отчетный период | D6: 45657
A9: Сельское поселение | B9: Количество занятых ставок инструкторов | C9: Вакансия | D9: Количество инструкторов (чел) | F9: Кол-во занимающихся | G9: Из них дети | H9: Кол-во несовершеннолетних, стоящих на учете в КДН занимающихся у инструкторов | I9: Кол-во занимающихся в секциях пенсионеров | J9: Кол-во занимающихся в секциях инвалидов
D10: штатных | E10: совместителей
A13: 2 | B13: 3 | C13: 4 | D13: 5 | E13: 6 | F13: 7 | G13: 8 | H13: 9 | I13: 10 | J13: 11
A14: Александровское | B14: 4 | C14: 0 | D14: 3 | E14: 7 | F14: 307 | G14: 74 | H14: 6 | I14: 50 | J14: 0
A15: Лукашкин-Ярское | B15: 0 | C15: 0.15 | D15: 0 | E15: 0 | F15: 0 | G15: 0 | H15: 0 | I15: 0 | J15: 0
A16: Назинское | B16: 0.15 | C16: 0 | D16: 0 | E16: 1 | F16: 28 | G16: 20 | H16: 0 | I16: 3 | J16: 0
A17: Новоникольское | B17: 0.15 | C17: 0 | D17: 0 | E17: 1 | F17: 17 | G17: 4 | H17: 0 | I17: 3 | J17: 0
A18: Октябрьский | B18: 0.15 | C18: 0 | D18: 1 | E18: 0 | F18: 12 | G18: 4 | H18: 0 | I18: 2 | J18: 0
A19: ВСЕГО в муниципальном образовании | B19: =SUM(B14:B18) -> 4.45 | C19: =SUM(C14:C18) -> 0.15 | D19: =SUM(D14:D18) -> 4 | E19: =SUM(E14:E18) -> 9 | F19: =SUM(F14:F18) -> 364 | G19: =SUM(G14:G18) -> 102 | H19: =SUM(H14:H18) -> 6 | I19: =SUM(I14:I18) -> 58 | J19: 0
A21: Руководитель | B21: Администрация Александровского района | D21: Глава Александровского района | H21: Мумбер В. П.
B22: (уполномоченное лицо) | E22: (должность) | G22: (подпись) | H22: (расшифровка подписи)
A24: Исполнитель | C24: Ведущий экономист | E24: Складнова Н. В. | G24: (38255)25114
C25: (должность) | E25: (инициалы, фамилия) | G25: (телефон с кодом города)
A27: Дата | B27: 09.01.2025

Sheet Асиновский
A2: Отчет о занимающихся физической культурой и спортом
A4: Наименование муниципального образования | D4: Асиновский район
A6: Отчетный период | D6: 45657
A9: Сельское поселение | B9: Количество занятых ставок инструкторов | C9: Вакансия | D9: Количество инструкторов (чел) | F9: Кол-во занимающихся | G9: Из них дети | H9: Кол-во несовершеннолетних, стоящих на учете в КДН занимающихся у инструкторов | I9: Кол-во занимающихся в секциях пенсионеров | J9: Кол-во занимающихся в секциях инвалидов
D10: штатных | E10: совместителей
A13: 2 | B13: 3 | C13: 4 | D13: 5 | E13: 6 | F13: 7 | G13: 8 | H13: 9 | I13: 10 | J13: 11
A14: Батуринское | B14: 1 | D14: 0 | E14: 2 | F14: 79 | G14: 47 | H14: 0 | I14: 5 | J14: 0
A15: Большедороховское | B15: 0.5 | D15: 0 | E15: 1 | F15: 41 | G15: 31 | H15: 2 | I15: 3 | J15: 0
A16: Новокусковское | B16: 0.5 | D16: 0 | E16: 1 | F16: 61 | G16: 39 | H16: 0 | I16: 4 | J16: 0
A17: Ягодное | B17: 0.5 | D17: 0 | E17: 1 | F17: 35 | G17: 25 | H17: 0 | I17: 6 | J17: 0
A18: Новониколаевское | B18: 0.5 | D18: 0 | E18: 1 | F18: 30 | G18: 12 | H18: 0 | I18: 0
A19: Асино | B19: 13.75 | D19: 7 | E19: 23 | F19: 1224 | G19: 614 | H19: 3 | I19: 52 | J19: 39
A20: ВСЕГО в муниципальном образовании | B20: 16.75 | D20: 7 | E20: 29 | F20: 1470 | G20: 768 | H20: 5 | I20: 70 | J20: 39
A22: Руководитель | B22: Администрация Асиновского района | D22: Глава муниципального образования "Асиновский район" | H22: Н.А.Данильчук
B23: (уполномоченное лицо) | D23: (должность) | F23: (подпись) | H23: (расшифровка подписи)
A25: Исполнитель | B25: Главный специалист по ф/к и спорту | E25: Е.Г.Кудряшов | G25: 83824122813
B26: (должность) | D26: (инициалы, фамилия) | F26: (телефон с кодом города)
A28: Дата | B28: 09.01.2025

Sheet г.Кедровый
A2: Отчет о занимающихся физической культурой и спортом
A4: Наименование муниципального образования | D4: "Город Кедровый"
A6: Отчетный период | D6: 45657
A9: Сельское поселение | B9: Количество занятых ставок инструкторов | C9: Вакансия | D9: Количество инструкторов (чел) | F9: Кол-во занимающихся | G9: Из них дети | H9: Кол-во несовершеннолетних, стоящих на учете в КДН занимающихся у инструкторов | I9: Кол-во занимающихся в секциях пенсионеров | J9: Кол-во занимающихся в секциях инвалидов
D10: штатных | E10: совместителей
A13: 2 | B13: 3 | C13: 4 | D13: 5 | E13: 6 | F13: 7 | G13: 8 | H13: 9 | I13: 10 | J13: 11
A14: Кедровый | B14: 1.3 | C14: 0 | D14: 0 | E14: 4 | F14: 387 | G14: 230 | H14: 1 | I14: 11 | J14: 0
A15: ВСЕГО в муниципальном образовании | B15: 1.3 | C15: 0 | D15: 0 | E15: 4 | F15: 387 | G15: 230 | H15: 1 | I15: 11 | J15: 0
A17: Руководитель | B17: Администрация МО "Город Кедровый" | H17: Н.А. Соловьева
B18: (уполномоченное лицо) | D18: (должность) | F18: (подпись) | H18: (расшифровка подписи)
A20: Исполнитель | B20: Главный специалист | D20: Т.В. Анисимкова | G20: 83825035500
B21: (должность) | D21: (инициалы, фамилия) | G21: (телефон с кодом города)
A23: Дата | B23: 45667

Sheet г. Стрежевой
A2: Отчет о занимающихся физической культурой и спортом
A4: Наименование муниципального образования | D4: городской округ Стрежевой
A6: Отчетный период | D6: 31.12.2024
A9: Сельское поселение | B9: Количество занятых ставок инструкторов | C9: Вакансия | D9: Количество инструкторов (чел) | F9: Кол-во занимающихся | G9: Из них дети | H9: Кол-во несовершеннолетних, стоящих на учете в КДН занимающихся у инструкторов | I9: Кол-во занимающихся в секциях пенсионеров | J9: Кол-во занимающихся в секциях инвалидов
D10: штатных | E10: совместителей
A13: 2 | B13: 3 | C13: 4 | D13: 5 | E13: 6 | F13: 7 | G13: 8 | H13: 9 | I13: 10 | J13: 11
A14: Стрежевой | B14: 11.8 | C14: 3.2 | D14: 5 | E14: 26 | F14: 1713 | G14: 1020 | H14: 1 | I14: 92 | J14: 11
A15: ВСЕГО в муниципальном образовании | B15: 11.8 | C15: 3.2 | D15: 5 | E15: 26 | F15: 1713 | G15: 1020 | H15: 1 | I15: 92 | J15: 11
B17: Руководитель | C17: МКУ "УКС и МП" | E17: Начальник Управления | H17: О.В. Карпина
C18: (уполномоченное лицо) | E18: (должность) | G18: (подпись) | H18: (расшифровка подписи)
B20: Исполнитель | C20: главный специалист отдела ФК и С | E20: А.П. Сафронов | G20: 8(38259) 5-30-46 *109
C21: (должность) | E21: (инициалы, фамилия) | G21: (телефон с кодом города)
B23: Дата | C23: 45670

Sheet Бакчарский
A2: Отчет о занимающихся физической культурой и спортом
A4: Наименование муниципального образования
A6: Отчетный период
A9: Сельское поселение | B9: Количество занятых ставок инструкторов | C9: Вакансия | D9: Количество инструкторов (чел) | F9: Кол-во занимающихся | G9: Из них дети | H9: Кол-во несовершеннолетних, стоящих на учете в КДН занимающихся у инструкторов | I9: Кол-во занимающихся в секциях пенсионеров | J9: Кол-во занимающихся в секциях инвалидов
D10: штатных | E10: совместителей
A13: 2 | B13: 3 | C13: 4 | D13: 5 | E13: 6 | F13: 7 | G13: 8 | H13: 9 | I13: 10 | J13: 11
A14: Бакчарское | B14: 2 | C14: 0 | D14: 0 | E14: 4 | F14: 853 | G14: 199 | H14: 0 | I14: 77 | J14: 0
A15: Вавиловское | B15: 0.5 | C15: 0 | D15: 0 | E15: 1 | F15: 89 | G15: 60 | H15: 0 | I15: 18 | J15: 0
A16: Высокоярское | B16: 0.75 | C16: 0 | D16: 2 | E16: 0 | F16: 169 | G16: 83 | H16: 0 | I16: 15 | J16: 0
A17: Парбигское | B17: 1 | C17: 0 | D17: 2 | E17: 0 | F17: 253 | G17: 82 | H17: 0 | I17: 50 | J17: 22
A18: Плотниковское | B18: 0.4 | C18: 0 | D18: 1 | E18: 0 | F18: 70 | G18: 33 | H18: 3 | I18: 40 | J18: 3
A19: Поротниковское | B19: 0.4 | C19: 0 | D19: 1 | E19: 0 | F19: 70 | G19: 46 | H19: 0 | I19: 17 | J19: 2
A20: ВСЕГО в муниципальном образовании | B20: =SUM(B14:B19) -> 5.05 | C20: =SUM(C14:C19) -> 0 | D20: =SUM(D14:D19) -> 6 | E20: =SUM(E14:E19) -> 5 | F20: =SUM(F14:F19) -> 1504 | G20: =SUM(G14:G19) -> 503 | H20: =SUM(H14:H19) -> 3 | I20: =SUM(I14:I19) -> 217 | J20: =SUM(J14:J19) -> 27
A22: Руководитель | D22: Глава Бакчарского района | H22: С.П. Ревера
B23: (уполномоченное лицо) | D23: (должность) | F23: (подпись) | H23: (расшифровка подписи)
A25: Исполнитель | B25: ведущий специалист администрации Бакчарского района | D25: М.А, Кинев | G25: (38249)21275
B26: (должность) | D26: (инициалы, фамилия) | F26: (телефон с кодом города)
A28: Дата | B28: 45670

Sheet Верхнекетский
A2: Отчет о занимающихся физической культурой и спортом
A4: Наименование муниципального образования | D4: Верхнекетский район
A6: Отчетный период | D6: 45657
A9: Сельское поселение | B9: Количество занятых ставок инструкторов | C9: Вакансия | D9: Количество инструкторов (чел) | F9: Кол-во занимающихся | G9: Из них дети | H9: Кол-во несовершеннолетних, стоящих на учете в КДН занимающихся у инструкторов | I9: Кол-во занимающихся в секциях пенсионеров | J9: Кол-во занимающихся в секциях инвалидов
D10: штатных | E10: совместителей
A13: 2 | B13: 3 | C13: 4 | D13: 5 | E13: 6 | F13: 7 | G13: 8 | H13: 9 | I13: 10 | J13: 11
A14: Белый Яр | B14: 8.25 | C14: 0 | D14: 2.5 | E14: 5.75 | F14: 1887 | G14: 160 | H14: 2 | I14: 183 | J14: 2
A15: Катайгинское | B15: 0.5 | C15: 0 | D15: 0 | E15: 0.5 | F15: 73 | G15: 50 | H15: 1 | I15: 24 | J15: 0
A16: Кюквинское | B16: 0 | C16: 0.5 | D16: 0 | E16: 0 | F16: 85 | G16: 54 | H16: 0 | I16: 37 | J16: 0
A17: Степановское | B17: 0.5 | C17: 0 | D17: 0 | E17: 0.5 | F17: 192 | G17: 113 | H17: 0 | I17: 44 | J17: 1
A18: Палочкинское | B18: 0.25 | C18: 0 | D18: 0.25 | E18: 0 | F18: 76 | G18: 26 | H18: 0 | I18: 15 | J18: 0
A19: Сайгинское | B19: 0.5 | C19: 0 | D19: 0.5 | E19: 0 | F19: 161 | G19: 73 | H19: 1 | I19: 32 | J19: 2
A20: Ягоднинское | B20: 0 | C20: 0.5 | D20: 0 | E20: 0 | F20: 86 | G20: 21 | H20: 0 | I20: 14 | J20: 0
A21: ВСЕГО в муниципальном образовании | B21: =B14+B15+B16+B17+B18+B19+B20 -> 10 | C21: =C14+C15+C16+C17+C18+C19+C20 -> 1 | D21: =D14+D15+D16+D17+D18+D19+D20 -> 3.25 | E21: =E14+E15+E16+E17+E18+E19+E20 -> 6.75 | F21: =F14+F15+F16+F17+F18+F19+F20 -> 2560 | G21: =G14+G15+G16+G17+G18+G19+G20 -> 497 | H21: =H14+H15+H16+H17+H18+H19+H20 -> 4 | I21: =I14+I15+I16+I17+I18+I19+I20 -> 349 | J21: =J14+J15+J16+J17+J18+J19+J20 -> 5
A23: Руководитель | B23: Глава Верхнекетского района | H23: С.А. Альсевич
B24: (уполномоченное лицо) | D24: (должность) | F24: (подпись) | H24: (расшифровка подписи)
A26: Исполнитель | B26: Начальник отдела по культуре, молодежной политике, спорту и туризму Администрации Верхнекетского района | D26: Л.В. Морозова | G26: 8-38-258-2-17-76
B27: (должность) | D27: (инициалы, фамилия) | F27: (телефон с кодом города)
A29: Дата

Sheet Зырянский
A2: Отчет о занимающихся физической культурой и спортом
A4: Наименование муниципального образования
A6: Отчетный период
A9: Сельское поселение | B9: Количество занятых ставок инструкторов | C9: Вакансия | D9: Количество инструкторов (чел) | F9: Кол-во занимающихся | G9: Из них дети | H9: Кол-во несовершеннолетних, стоящих на учете в КДН занимающихся у инструкторов | I9: Кол-во занимающихся в секциях пенсионеров | J9: Кол-во занимающихся в секциях инвалидов
D10: штатных | E10: совместителей
A13: 2 | B13: 3 | C13: 4 | D13: 5 | E13: 6 | F13: 7 | G13: 8 | H13: 9 | I13: 10 | J13: 11
A16: ВСЕГО в муниципальном образовании | B16: 5.27 | C16: 1.61 | D16: 1 | E16: 10 | F16: 528 | G16: 221 | H16: 4 | I16: 58 | J16: 4
A18: Руководитель
B19: (уполномоченное лицо) | D19: (должность) | F19: (подпись) | H19: (расшифровка подписи)
A21: Исполнитель
B22: (должность) | D22: (инициалы, фамилия) | F22: (телефон с кодом города)
A24: Дата

Sheet Колпашевский
A2: Отчет о занимающихся физической культурой и спортом
A4: Наименование муниципального образования | D4: Колпашевский район
A6: Отчетный период 31.12.2024
A9: Сельское поселение | B9: Количество занятых ставок инструкторов | C9: Вакансия | D9: Количество инструкторов (чел) | F9: Кол-во занимающихся | G9: Из них дети | H9: Кол-во несовершеннолетних, стоящих на учете в КДН занимающихся у инструкторов | I9: Кол-во занимающихся в секциях пенсионеров | J9: Кол-во занимающихся в секциях инвалидов
D10: штатных | E10: совместителей
A13: 2 | B13: 3 | C13: 4 | D13: 5 | E13: 6 | F13: 7 | G13: 8 | H13: 9 | I13: 10 | J13: 11
A14: Саровское сельское поселение | B14: 1.3 | D14: 2 | F14: 157 | G14: 95 | I14: 10
A15: Колпашевское городское поселение | B15: 11.5 | D15: 8 | E15: 10 | F15: 1330 | G15: 548 | H15: 3 | I15: 178
A16: Инкинское сельское поселение | B16: 1.3 | D16: 2 | F16: 160 | G16: 63 | I16: 12
A17: Чажемтовское сельское поселение | B17: 1.8 | C17: 0.3 | D17: 1 | E17: 2 | F17: 270 | G17: 140 | I17: 4
A18: Новоселовское сельское поселение | B18: 1.5 | E18: 5 | F18: 196 | G18: 140
A19: Новогоренское сельское поселение | B19: 0.5 | E19: 1 | F19: 59 | G19: 32 | I19: 8
A20: ВСЕГО в муниципальном образовании | B20: =SUM(B14:B19) -> 17.9 | C20: =SUM(C14:C19) -> 0.3 | D20: =SUM(D14:D19) -> 13 | E20: =SUM(E14:E19) -> 18 | F20: =SUM(F14:F19) -> 2172 | G20: =SUM(G14:G19) -> 1018 | H20: =SUM(H14:H19) -> 3 | I20: =SUM(I14:I19) -> 212 | J20: =SUM(J14:J19) -> 0
A22: Руководитель | B22: Начальник УКС и МП | D22: Пшеничникова Г.А.
B23: (уполномоченное лицо) | D23: (должность) | F23: (подпись) | H23: (расшифровка подписи)
A25: Исполнитель | B25: начальник ОМО УКС и МП | D25: Писанко О.А. | G25: 838254 5 27 43
B26: (должность) | D26: (инициалы, фамилия) | F26: (телефон с кодом города)
A28: Дата

Sheet Каргасокский
A2: Отчет о занимающихся физической культурой и спортом
A4: Наименование муниципального образования
A6: Отчетный период
A9: Сельское поселение | B9: Количество занятых ставок инструкторов | C9: Вакансия | D9: Количество инструкторов (чел) | F9: Кол-во занимающихся | G9: Из них дети | H9: Кол-во несовершеннолетних, стоящих на учете в КДН занимающихся у инструкторов | I9: Кол-во занимающихся в секциях пенсионеров | J9: Кол-во занимающихся в секциях инвалидов
D10: штатных | E10: совместителей
A13: 2 | B13: 3 | C13: 4 | D13: 5 | E13: 6 | F13: 7 | G13: 8 | H13: 9 | I13: 10 | J13: 11
A16: ВСЕГО в муниципальном образовании | B16: 9.8 | C16: 0 | D16: 4 | E16: 18 | F16: 2454 | G16: 840 | H16: 4 | I16: 142 | J16: 0
A18: Руководитель
B19: (уполномоченное лицо) | D19: (должность) | F19: (подпись) | H19: (расшифровка подписи)
A21: Исполнитель
B22: (должность) | D22: (инициалы, фамилия) | F22: (телефон с кодом города)
A24: Дата

Sheet Кожевниковский
A2: Отчет о занимающихся физической культурой и спортом
A4: Наименование муниципального образования
A6: Отчетный период
A9: Сельское поселение | B9: Количество занятых ставок инструкторов | C9: Вакансия | D9: Количество инструкторов (чел) | F9: Кол-во занимающихся | G9: Из них дети | H9: Кол-во несовершеннолетних, стоящих на учете в КДН занимающихся у инструкторов | I9: Кол-во занимающихся в секциях пенсионеров | J9: Кол-во занимающихся в секциях инвалидов
D10: штатных | E10: совместителей
A13: 2 | B13: 3 | C13: 4 | D13: 5 | E13: 6 | F13: 7 | G13: 8 | H13: 9 | I13: 10 | J13: 11
A16: ВСЕГО в муниципальном образовании | B16: 9 | C16: 0 | D16: 2 | E16: 11 | F16: 637 | G16: 169 | H16: 16 | I16: 93 | J16: 9
A18: Руководитель
B19: (уполномоченное лицо) | D19: (должность) | F19: (подпись) | H19: (расшифровка подписи)
A21: Исполнитель
B22: (должность) | D22: (инициалы, фамилия) | F22: (телефон с кодом города)
A24: Дата

Sheet Кривошеинский
A2: Отчет о занимающихся физической культурой и спортом
A4: Кривошеинский район Томской области
A6: 2024 год
A9: Сельское поселение | B9: Количество занятых ставок инструкторов | C9: Вакансия | D9: Количество инструкторов (чел) | F9: Кол-во занимающихся | G9: Из них дети | H9: Кол-во несовершеннолетних, стоящих на учете в КДН занимающихся у инструкторов | I9: Кол-во занимающихся в секциях пенсионеров | J9: Кол-во занимающихся в секциях инвалидов
D10: штатных | E10: совместителей
A13: 2 | B13: 3 | C13: 4 | D13: 5 | E13: 6 | F13: 7 | G13: 8 | H13: 9 | I13: 10 | J13: 11
A14: Володинское | B14: 1 | D14: 1 | E14: 1 | F14: 153 | G14: 16 | H14: 4 | I14: 21 | J14: 3
A15: Иштанское | B15: 0.4 | E15: 1 | F15: 32 | G15: 7 | I15: 8
A16: КрасноЯрское | B16: 1.3 | D16: 1 | E16: 1 | F16: 175 | G16: 25 | I16: 30
A17: Кривошеинское | B17: 2 | E17: 4 | F17: 275 | G17: 135 | I17: 63
A18: Пудовское | B18: 0.4 | E18: 1 | F18: 33 | G18: 22 | I18: 0
A19: ВСЕГО в муниципальном образовании | B19: 5.1 | D19: 2 | E19: 9 | F19: =SUM(F13:F18) -> 675 | G19: 205 | H19: 4 | I19: 122 | J19: 3
A21: Руководитель | C21: Глава Кривошеинского района | H21: А.Н. Коломин
B22: (уполномоченное лицо) | D22: (должность) | F22: (подпись) | H22: (расшифровка подписи)
A24: Исполнитель | B24: Специалист I категории по молодежной политике и спорту | D24: М.В. Алтухова | G24: 8 (953) 917-75-12
B25: (должность) | D25: (инициалы, фамилия) | F25: (телефон с кодом города)
A27: Дата

Sheet Молчановский
A2: Отчет о занимающихся физической культурой и спортом
A4: Наименование муниципального образования | D4: Молчановский район Томской области
A6: Отчетный период | D6: 2024 год
A9: Сельское поселение | B9: Количество занятых ставок инструкторов | C9: Вакансия | D9: Количество инструкторов (чел) | F9: Кол-во занимающихся | G9: Из них дети | H9: Кол-во несовершеннолетних, стоящих на учете в КДН занимающихся у инструкторов | I9: Кол-во занимающихся в секциях пенсионеров | J9: Кол-во занимающихся в секциях инвалидов
D10: штатных | E10: совместителей
A13: 2 | B13: 3 | C13: 4 | D13: 5 | E13: 6 | F13: 7 | G13: 8 | H13: 9 | I13: 10 | J13: 11
B14: 7 | C14: 2.5 | D14: 4 | E14: 5 | F14: 494 | G14: 256 | H14: 9 | I14: 83 | J14: 8
A15: ВСЕГО в муниципальном образовании | B15: 7 | C15: 2.5 | D15: 4 | E15: 5 | F15: 494 | G15: 196 | H15: 9 | I15: 83 | J15: 8
A17: Руководитель | C17: И.о Главы Молчановского района | I17: В.Н. Зыков
B18: (уполномоченное лицо) | D18: (должность) | F18: (подпись) | H18: (расшифровка подписи)
A20: Исполнитель | B20: Специалист 1 кат по ФК и спорта | D20: Шакурова А.А. | G20: 83825623220
B21: (должность) | D21: (инициалы, фамилия) | F21: (телефон с кодом города)
A23: Дата | B23: 45700

Sheet Парабельский
A2: Отчет о занимающихся физической культурой и спортом
A4: Парабельский район
A6: 4 квартал 2024
A9: Сельское поселение | B9: Количество занятых ставок инструкторов | C9: Вакансия | D9: Количество инструкторов (чел) | F9: Кол-во занимающихся | G9: Из них дети | H9: Кол-во несовершеннолетних, стоящих на учете в КДН занимающихся у инструкторов | I9: Кол-во занимающихся в секциях пенсионеров | J9: Кол-во занимающихся в секциях инвалидов
D10: штатных | E10: совместителей
A13: 2 | B13: 3 | C13: 4 | D13: 5 | E13: 6 | F13: 7 | G13: 8 | H13: 9 | I13: 10 | J13: 11
A14: Заводское | B14: 0.8 | C14: 0 | D14: 0 | E14: 2 | F14: 73 | G14: 5 | H14: 0 | I14: 37 | J14: 0
A15: Нарымское | B15: 1 | C15: 0 | D15: 2 | E15: 0 | F15: 131 | G15: 51 | H15: 0 | I15: 17 | J15: 0
A16: Новосельцевское | B16: 0.8 | C16: 0 | D16: 0 | E16: 1 | F16: 96 | G16: 46 | H16: 0 | I16: 10 | J16: 1
A17: Парабельское | B17: 3.3 | C17: 0 | D17: 0 | E17: 7 | F17: 211 | G17: 48 | H17: 0 | I17: 41 | J17: 3
A18: Старицинское | B18: 0.5 | C18: 0 | D18: 0 | E18: 1 | F18: 29 | G18: 15 | H18: 0 | I18: 9 | J18: 0
A19: ВСЕГО в муниципальном образовании | B19: =SUM(B14:B18) -> 6.4 | C19: 0 | D19: =SUM(D14:D18) -> 2 | E19: =SUM(E14:E18) -> 11 | F19: =SUM(F14:F18) -> 540 | G19: =SUM(G14:G18) -> 165 | H19: 0 | I19: =SUM(I14:I18) -> 114 | J19: =SUM(J14:J18) -> 4
A21: Руководитель | B21: Е.А. Рязанова | D21: Глава Парабельского района | H21: Е.А. Рязанова
B22: (уполномоченное лицо) | D22: (должность) | F22: (подпись) | H22: (расшифровка подписи)
A24: Исполнитель | B24: Ведущий специалист по ФК и спорту | D24: Ю.В. Дащенко | G24: 83825221396
B25: (должность) | D25: (инициалы, фамилия) | F25: (телефон с кодом города)
A27: Дата | B27: 45672

Sheet Первомайский
A2: Отчет о занимающихся физической культурой и спортом
A4: Наименование муниципального образования | D4: Первомайский район
A6: Отчетный период | D6: 31.12.2024
A9: Сельское поселение | B9: Количество занятых ставок инструкторов | C9: Вакансия | D9: Количество инструкторов (чел) | F9: Кол-во занимающихся | G9: Из них дети | H9: Кол-во несовершеннолетних, стоящих на учете в КДН занимающихся у инструкторов | I9: Кол-во занимающихся в секциях пенсионеров | J9: Кол-во занимающихся в секциях инвалидов
D10: штатных | E10: совместителей
A13: 2 | B13: 3 | C13: 4 | D13: 5 | E13: 6 | F13: 7 | G13: 8 | H13: 9 | I13: 10 | J13: 11
A14: Комсомольский | B14: 0.8 | C14: - | D14: 0 | E14: 2 | F14: 263 | G14: 80 | H14: 0 | I14: 41 | J14: 0
A15: Куяновский | B15: 0.5 | C15: - | D15: 1 | E15: 2 | F15: 241 | G15: 80 | H15: 0 | I15: 26 | J15: 0
A16: Новомариинский | B16: 0.25 | C16: - | D16: 0 | E16: 1 | F16: 105 | G16: 35 | H16: 0 | I16: 7 | J16: 1
A17: Первомайский | B17: 5 | C17: - | D17: 0 | E17: 11 | F17: 1142 | G17: 500 | H17: 0 | I17: 143 | J17: 4
A18: Сергеевский | B18: 0.65 | C18: - | D18: 0 | E18: 2 | F18: 245 | G18: 80 | H18: 0 | I18: 23 | J18: 1
A19: Улу-Юльский | B19: 0.8 | C19: - | D19: 1 | E19: 1 | F19: 257 | G19: 80 | H19: 0 | I19: 28 | J19: 0
A20: ВСЕГО в муниципальном образовании | B20: 8 | C20: 0 | D20: 2 | E20: 19 | F20: 2253 | G20: 855 | H20: 0 | I20: 268 | J20: 6
A22: Руководитель | B22: Управление образования Администрации Первомайского района | D22: Начальник Управления образования Администрации Первомайского района | H22: А.В. Тимков
B23: (уполномоченное лицо) | D23: (должность) | F23: (подпись) | H23: (расшифровка подписи)
A25: Исполнитель | B25: Директор МБОУ ДО "Первомайская СШ" | D25: Р.Н. Пангин | G25: 8-382-45-2-15-88
B26: (должность) | D26: (инициалы, фамилия) | F26: (телефон с кодом города)
A28: Дата | B28: 45670

Sheet Тегульдетский
A2: Отчет о занимающихся физической культурой и спортом
A4: Наименование муниципального образования | D4: Тегульдетский район
A6: Отчетный период | D6: 45657
A9: Сельское поселение | B9: Количество занятых ставок инструкторов | C9: Вакансия | D9: Количество инструкторов (чел) | F9: Кол-во занимающихся | G9: Из них дети | H9: Кол-во несовершеннолетних, стоящих на учете в КДН занимающихся у инструкторов | I9: Кол-во занимающихся в секциях пенсионеров | J9: Кол-во занимающихся в секциях инвалидов
D10: штатных | E10: совместителей
A13: 2 | B13: 3 | C13: 4 | D13: 5 | E13: 6 | F13: 7 | G13: 8 | H13: 9 | I13: 10 | J13: 11
A14: Тегульдетское | B14: 2.7 | C14: 0 | D14: 0 | E14: 6 | F14: 270 | G14: 120 | H14: 0 | I14: 15 | J14: 4
A15: Берегаевское | B15: 0.5 | C15: 0 | D15: 0 | E15: 1 | F15: 50 | G15: 25 | H15: 0 | I15: 5 | J15: 0
A16: Белоярское | B16: 0.8 | C16: 0 | D16: 0 | E16: 2 | F16: 80 | G16: 50 | H16: 1 | I16: 7 | J16: 0
A17: ВСЕГО в муниципальном образовании | B17: 4 | C17: 0 | D17: 0 | E17: 9 | F17: 400 | G17: 195 | H17: 1 | I17: 27 | J17: 4
A19: Руководитель | B19: Глава Тегульдетского района | H19: И.А. Клишин
B20: (уполномоченное лицо) | D20: (должность) | F20: (подпись) | H20: (расшифровка подписи)
A22: Исполнитель | B22: Главный специалист по спорту | D22: М.В. Ситник | G22: 8-38-246-2-12-84 | H22: 8-38-246-2-12-84
B23: (должность) | D23: (инициалы, фамилия) | F23: (телефон с кодом города)
A25: Дата | B25: 45666

Sheet Томский
A2: Отчет о занимающихся физической культурой и спортом
A4: Наименование муниципального образования
A6: Отчетный период
A9: Сельское поселение | B9: Количество занятых ставок инструкторов | C9: Вакансия | D9: Количество инструкторов (чел) | F9: Кол-во занимающихся | G9: Из них дети | H9: Кол-во несовершеннолетних, стоящих на учете в КДН занимающихся у инструкторов | I9: Кол-во занимающихся в секциях пенсионеров | J9: Кол-во занимающихся в секциях инвалидов
D10: штатных | E10: совместителей
A13: 2 | B13: 3 | C13: 4 | D13: 5 | E13: 6 | F13: 7 | G13: 8 | H13: 9 | I13: 10 | J13: 11
A18: ВСЕГО в муниципальном образовании | B18: 30.95 | C18: 1 | D18: 4 | E18: 53 | F18: 4440 | G18: 1817 | H18: 0 | I18: 465 | J18: 27
A20: Руководитель
B21: (уполномоченное лицо) | D21: (должность) | F21: (подпись) | H21: (расшифровка подписи)
A23: Исполнитель
B24: (должность) | D24: (инициалы, фамилия) | F24: (телефон с кодом города)
A26: Дата

Sheet Чаинский
A2: Отчет о занимающихся физической культурой и спортом
A4: Наименование муниципального образования | D4: "Чаинский район Томской области"
A6: Отчетный период 01.01.2024-31.12.2024
A9: Сельское поселение | B9: Количество занятых ставок инструкторов | C9: Вакансия | D9: Количество инструкторов (чел) | F9: Кол-во занимающихся | G9: Из них дети | H9: Кол-во несовершеннолетних, стоящих на учете в КДН занимающихся у инструкторов | I9: Кол-во занимающихся в секциях пенсионеров | J9: Кол-во занимающихся в секциях инвалидов
D10: штатных | E10: совместителей
A13: 2 | B13: 3 | C13: 4 | D13: 5 | E13: 6 | F13: 7 | G13: 8 | H13: 9 | I13: 10 | J13: 11
A14: Подгорнское | B14: 3.59 | C14: 0.05 | D14: 3 | E14: 6 | F14: 382 | G14: 173 | H14: 0 | I14: 40 | J14: 3
A15: Уть-Бакчарское | B15: 1.76 | C15: 0 | D15: 3 | E15: 3 | F15: 125 | G15: 29 | H15: 0 | I15: 19 | J15: 0
A16: Коломинское | B16: 1.33 | C16: 0 | D16: 2 | E16: 2 | F16: 158 | G16: 53 | H16: 0 | I16: 66 | J16: 0
A17: Чаинское | B17: 0.32 | C17: 0 | D17: 0 | E17: 1 | F17: 32 | G17: 19 | H17: 0 | I17: 13 | J17: 0
A18: ВСЕГО в муниципальном образовании | B18: =SUM(B14:B17) -> 7 | C18: =SUM(C14:C17) -> 0.05 | D18: =SUM(D14:D17) -> 8 | E18: =SUM(E14:E17) -> 12 | F18: =SUM(F14:F17) -> 697 | G18: =SUM(G14:G17) -> 274 | H18: =SUM(H14:H17) -> 0 | I18: =SUM(I14:I17) -> 138 | J18: =SUM(J14:J17) -> 3
A20: Руководитель | B20: А.А. Костарев | D20: Глава Чаинского района | H20: А.А. Костарев
B21: (уполномоченное лицо) | D21: (должность) | F21: (подпись) | H21: (расшифровка подписи)
A23: Исполнитель | B23: Специалист по работе с молодежью | E23: Е.Э, Сикачев | G23: 8(38257)2 19 30
B24: (должность) | D24: (инициалы, фамилия) | F24: (телефон с кодом города)
A26: Дата | B26: 20.01.2025

Sheet Шегарский
A2: Отчет о занимающихся физической культурой и спортом
A4: Наименование муниципального образования | D4: Шегарский район
A6: Отчетный период | D6: год
A9: Сельское поселение | B9: Количество занятых ставок инструкторов | C9: Вакансия | D9: Количество инструкторов (чел) | F9: Кол-во занимающихся | G9: Из них дети | H9: Кол-во несовершеннолетних, стоящих на учете в КДН занимающихся у инструкторов | I9: Кол-во занимающихся в секциях пенсионеров | J9: Кол-во занимающихся в секциях инвалидов
D10: штатных | E10: совместителей
A13: 2 | B13: 3 | C13: 4 | D13: 5 | E13: 6 | F13: 7 | G13: 8 | H13: 9 | I13: 10 | J13: 11
A14: Анастасьевское | B14: 0.5 | C14: 0 | D14: 0 | E14: 1 | F14: 54 | G14: 35 | H14: 0 | I14: 10 | J14: 10
A15: Баткатское | B15: 2 | C15: 0 | D15: 1 | E15: 3 | F15: 160 | G15: 98 | H15: 2 | I15: 11 | J15: 15
A16: Побединское | B16: 0.5 | C16: 0 | D16: 0 | E16: 2 | F16: 78 | G16: 46 | H16: 0 | I16: 15 | J16: 0
A17: Северное | B17: 0.5 | C17: 0 | D17: 1 | E17: 0 | F17: 68 | G17: 41 | H17: 0 | I17: 12 | J17: 1
A18: Трубачевское | B18: 0 | C18: 1 | D18: 0 | E18: 0 | F18: 76 | G18: 63 | H18: 0 | I18: 12 | J18: 0
A19: Шегарское | B19: 5.7 | C19: 0 | D19: 4 | E19: 5 | F19: 864 | G19: 354 | H19: 3 | I19: 79 | J19: 16
A20: ВСЕГО в муниципальном образовании | B20: 9.2 | C20: 1 | D20: 6 | E20: 11 | F20: 1300 | G20: 637 | H20: 5 | I20: 139 | J20: 46
A23: Руководитель | C23: Глава Шегарского района | H23: А.К. Михкельсон
B24: (уполномоченное лицо) | D24: (должность) | F24: (подпись) | H24: (расшифровка подписи)
A26: Исполнитель | B26: Главный специалист | D26: А.В. Рогутенок | G26: 8(3824723228)
B27: (должность) | D27: (инициалы, фамилия) | F27: (телефон с кодом города)
A29: Дата | B29: 45667

Sheet Город Томск
A2: Отчет о занимающихся физической культурой и спортом
A4: Наименование муниципального образования | D4: муниципальное образование "Город Томск"
A6: Отчетный период | D6: 4 квартал 2024 года
A9: Сельское поселение | B9: Количество занятых ставок инструкторов | C9: Вакансия | D9: Количество инструкторов (чел) | F9: Кол-во занимающихся | G9: Из них дети | H9: Кол-во несовершеннолетних, стоящих на учете в КДН занимающихся у инструкторов | I9: Кол-во занимающихся в секциях пенсионеров | J9: Кол-во занимающихся в секциях инвалидов
D10: штатных | E10: совместителей
A13: 2 | B13: 3 | C13: 4 | D13: 5 | E13: 6 | F13: 7 | G13: 8 | H13: 9 | I13: 10 | J13: 11
A14: Кировский | B14: 12.5 | C14: 0 | D14: 15 | E14: 12 | F14: 1316 | G14: 405 | H14: 0 | I14: 269 | J14: 46
A15: Ленинский | B15: 9.25 | C15: 7 | D15: 8 | E15: 6 | F15: 891 | G15: 240 | H15: 0 | I15: 313 | J15: 73
A16: Октябрьский | B16: 10.5 | C16: 5.25 | D16: 8 | E16: 7 | F16: 844 | G16: 419 | H16: 1 | I16: 88 | J16: 43
A17: Советский | B17: 12.25 | C17: 0.25 | D17: 13 | E17: 11 | F17: 1229 | G17: 383 | H17: 1 | I17: 433 | J17: 23
A18: ВСЕГО в муниципальном образовании | B18: 44.5 | C18: 12.5 | D18: 44 | E18: 36 | F18: 4280 | G18: 1447 | H18: 2 | I18: 1103 | J18: 185
A20: Руководитель | B20: А.В. Белоусов | D20: начальник управления | H20: А.В. Белоусов
B21: (уполномоченное лицо) | D21: (должность) | F21: (подпись) | H21: (расшифровка подписи)
A23: Исполнитель | B23: советник | D23: А.Ю. Матросов | G23: (3822) 904-377
B24: (должность) | D24: (инициалы, фамилия) | F24: (телефон с кодом города)
A26: Дата

Sheet ЗАТО Северск
A2: Отчет о занимающихся физической культурой и спортом
A4: Наименование муниципального образования | D4: ЗАТО Северск
A6: Отчетный период | D6: 4 квартал 2024 года(на 01.01.2025)
A9: Городской округ | B9: Количество занятых ставок инструкторов | C9: Вакансия | D9: Количество инструкторов (чел) | F9: Кол-во занимающихся | G9: Из них дети | H9: Кол-во несовершеннолетних, стоящих на учете в КДН занимающихся у инструкторов | I9: Кол-во занимающихся в секциях пенсионеров | J9: Кол-во занимающихся в секциях инвалидов
D10: штатных | E10: совместителей
A13: 2 | B13: 3 | C13: 4 | D13: 5 | E13: 6 | F13: 7 | G13: 8 | H13: 9 | I13: 10 | J13: 11
A14: ЗАТО Северск | B14: 16 | C14: 0 | D14: 9 | E14: 20 | F14: 1311 | G14: 418 | H14: 2 | I14: 213 | J14: 75
A15: ВСЕГО в муниципальном образовании | B15: 16 | C15: 0 | D15: 9 | E15: 20 | F15: 1311 | G15: 418 | H15: 2 | I15: 213 | J15: 75
B16: Врио начальника Управления молодёжной и семейной политики, физической культуры и спорта Администрации ЗАТО Северск
A17: Руководитель | H17: Малыщенко Т.Н.
B18: (уполномоченное лицо) | D18: (должность) | F18: (подпись) | H18: (расшифровка подписи)
A20: Исполнитель | B20: гл.специалист | D20: Чувякова Л.В. | G20: 83823785129
B21: (должность) | D21: (инициалы, фамилия) | F21: (телефон с кодом города)
A23: Дата | B23: 45666

Sheet СВОД
A2: Отчет о занимающихся физической культурой и спортом
A4: Наименование муниципального образования
A6: Отчетный период | D6: 4 квартал 2024 года(на 01.01.2025)
A9: Городской округ | B9: Количество занятых ставок инструкторов | C9: Вакансия | D9: Количество инструкторов (чел) | F9: Кол-во занимающихся | G9: Из них дети | H9: Кол-во несовершеннолетних, стоящих на учете в КДН занимающихся у инструкторов | I9: Кол-во занимающихся в секциях пенсионеров | J9: Кол-во занимающихся в секциях инвалидов
D10: штатных | E10: совместителей
A13: 2 | B13: 3 | C13: 4 | D13: 5 | E13: 6 | F13: 7 | G13: 8 | H13: 9 | I13: 10 | J13: 11
A14: Александровский район | B14: ='Александровский район'!B19 -> 4.45 | C14: ='Александровский район'!C19 -> 0.15 | D14: ='Александровский район'!D19 -> 4 | E14: ='Александровский район'!E19 -> 9 | F14: ='Александровский район'!F19 -> 364 | G14: ='Александровский район'!G19 -> 102 | H14: ='Александровский район'!H19 -> 6 | I14: ='Александровский район'!I19 -> 58 | J14: ='Александровский район'!J19 -> 0
A15: Асиновский район | B15: =Асиновский!B20 -> 16.75 | C15: =Асиновский!C20 -> 0 | D15: =Асиновский!D20 -> 7 | E15: =Асиновский!E20 -> 29 | F15: =Асиновский!F20 -> 1470 | G15: =Асиновский!G20 -> 768 | H15: =Асиновский!H20 -> 5 | I15: =Асиновский!I20 -> 70 | J15: =Асиновский!J20 -> 39
A16: г. Кедровый | B16: =г.Кедровый!B15 -> 1.3 | C16: =г.Кедровый!C15 -> 0 | D16: =г.Кедровый!D15 -> 0 | E16: =г.Кедровый!E15 -> 4 | F16: =г.Кедровый!F15 -> 387 | G16: =г.Кедровый!G15 -> 230 | H16: =г.Кедровый!H15 -> 1 | I16: =г.Кедровый!I15 -> 11 | J16: =г.Кедровый!J15 -> 0
A17: г. Стрежевой | B17: ='г. Стрежевой'!B15 -> 11.8 | C17: ='г. Стрежевой'!C15 -> 3.2 | D17: ='г. Стрежевой'!D15 -> 5 | E17: ='г. Стрежевой'!E15 -> 26 | F17: ='г. Стрежевой'!F15 -> 1713 | G17: ='г. Стрежевой'!G15 -> 1020 | H17: ='г. Стрежевой'!H15 -> 1 | I17: ='г. Стрежевой'!I15 -> 92 | J17: ='г. Стрежевой'!J15 -> 11
A18: Бакчариский район | B18: =Бакчарский!B20 -> 5.05 | C18: =Бакчарский!C20 -> 0 | D18: =Бакчарский!D20 -> 6 | E18: =Бакчарский!E20 -> 5 | F18: =Бакчарский!F20 -> 1504 | G18: =Бакчарский!G20 -> 503 | H18: =Бакчарский!H20 -> 3 | I18: =Бакчарский!I20 -> 217 | J18: =Бакчарский!J20 -> 27
A19: Верхнекетский район | B19: =Верхнекетский!B21 -> 10 | C19: =Верхнекетский!C21 -> 1 | D19: =Верхнекетский!D21 -> 3.25 | E19: =Верхнекетский!E21 -> 6.75 | F19: =Верхнекетский!F21 -> 2560 | G19: =Верхнекетский!G21 -> 497 | H19: =Верхнекетский!H21 -> 4 | I19: =Верхнекетский!I21 -> 349 | J19: =Верхнекетский!J21 -> 5
A20: Зырянский район | B20: =Зырянский!B16 -> 5.27 | C20: =Зырянский!C16 -> 1.61 | D20: =Зырянский!D16 -> 1 | E20: =Зырянский!E16 -> 10 | F20: =Зырянский!F16 -> 528 | G20: =Зырянский!G16 -> 221 | H20: =Зырянский!H16 -> 4 | I20: =Зырянский!I16 -> 58 | J20: =Зырянский!J16 -> 4
A21: Колпашевский район | B21: =Колпашевский!B20 -> 17.9 | C21: =Колпашевский!C20 -> 0.3 | D21: =Колпашевский!D20 -> 13 | E21: =Колпашевский!E20 -> 18 | F21: =Колпашевский!F20 -> 2172 | G21: =Колпашевский!G20 -> 1018 | H21: =Колпашевский!H20 -> 3 | I21: =Колпашевский!I20 -> 212 | J21: =Колпашевский!J20 -> 0
A22: Каргасокский район | B22: =Каргасокский!B16 -> 9.8 | C22: =Каргасокский!C16 -> 0 | D22: =Каргасокский!D16 -> 4 | E22: =Каргасокский!E16 -> 18 | F22: =Каргасокский!F16 -> 2454 | G22: =Каргасокский!G16 -> 840 | H22: =Каргасокский!H16 -> 4 | I22: =Каргасокский!I16 -> 142 | J22: =Каргасокский!J16 -> 0
A23: Кожевниковский район | B23: =Кожевниковский!B16 -> 9 | C23: =Кожевниковский!C16 -> 0 | D23: =Кожевниковский!D16 -> 2 | E23: =Кожевниковский!E16 -> 11 | F23: =Кожевниковский!F16 -> 637 | G23: =Кожевниковский!G16 -> 169 | H23: =Кожевниковский!H16 -> 16 | I23: =Кожевниковский!I16 -> 93 | J23: =Кожевниковский!J16 -> 9
A24: Кривошеинский район | B24: =Кривошеинский!B19 -> 5.1 | C24: =Кривошеинский!C19 | D24: =Кривошеинский!D19 -> 2 | E24: =Кривошеинский!E19 -> 9 | F24: =Кривошеинский!F19 -> 675 | G24: =Кривошеинский!G19 -> 205 | H24: =Кривошеинский!H19 -> 4 | I24: =Кривошеинский!I19 -> 122 | J24: =Кривошеинский!J19 -> 3
A25: Молчановский район | B25: =Молчановский!B15 -> 7 | C25: =Молчановский!C15 -> 2.5 | D25: =Молчановский!D15 -> 4 | E25: =Молчановский!E15 -> 5 | F25: =Молчановский!F15 -> 494 | G25: =Молчановский!G15 -> 196 | H25: =Молчановский!H15 -> 9 | I25: =Молчановский!I15 -> 83 | J25: =Молчановский!J15 -> 8
A26: Парабельский район | B26: =Парабельский!B19 -> 6.4 | C26: =Парабельский!C19 -> 0 | D26: =Парабельский!D19 -> 2 | E26: =Парабельский!E19 -> 11 | F26: =Парабельский!F19 -> 540 | G26: =Парабельский!G19 -> 165 | H26: =Парабельский!H19 -> 0 | I26: =Парабельский!I19 -> 114 | J26: =Парабельский!J19 -> 4
A27: Первомайский район | B27: =Первомайский!B20 -> 8 | C27: =Первомайский!C20 -> 0 | D27: =Первомайский!D20 -> 2 | E27: =Первомайский!E20 -> 19 | F27: =Первомайский!F20 -> 2253 | G27: =Первомайский!G20 -> 855 | H27: =Первомайский!H20 -> 0 | I27: =Первомайский!I20 -> 268 | J27: =Первомайский!J20 -> 6
A28: Тегульдетский район | B28: =Тегульдетский!B17 -> 4 | C28: =Тегульдетский!C17 -> 0 | D28: =Тегульдетский!D17 -> 0 | E28: =Тегульдетский!E17 -> 9 | F28: =Тегульдетский!F17 -> 400 | G28: =Тегульдетский!G17 -> 195 | H28: =Тегульдетский!H17 -> 1 | I28: =Тегульдетский!I17 -> 27 | J28: =Тегульдетский!J17 -> 4
A29: Томский район | B29: =Томский!B18 -> 30.95 | C29: =Томский!C18 -> 1 | D29: =Томский!D18 -> 4 | E29: =Томский!E18 -> 53 | F29: =Томский!F18 -> 4440 | G29: =Томский!G18 -> 1817 | H29: =Томский!H18 -> 0 | I29: =Томский!I18 -> 465 | J29: =Томский!J18 -> 27
A30: Чаинский район | B30: =Чаинский!B18 -> 7 | C30: =Чаинский!C18 -> 0.05 | D30: =Чаинский!D18 -> 8 | E30: =Чаинский!E18 -> 12 | F30: =Чаинский!F18 -> 697 | G30: =Чаинский!G18 -> 274 | H30: =Чаинский!H18 -> 0 | I30: =Чаинский!I18 -> 138 | J30: =Чаинский!J18 -> 3
A31: Шегарский район | B31: =Шегарский!B20 -> 9.2 | C31: =Шегарский!C20 -> 1 | D31: =Шегарский!D20 -> 6 | E31: =Шегарский!E20 -> 11 | F31: =Шегарский!F20 -> 1300 | G31: =Шегарский!G20 -> 637 | H31: =Шегарский!H20 -> 5 | I31: =Шегарский!I20 -> 139 | J31: =Шегарский!J20 -> 46
A32: г. Томск | B32: ='Город Томск'!B18 -> 44.5 | C32: ='Город Томск'!C18 -> 12.5 | D32: ='Город Томск'!D18 -> 44 | E32: ='Город Томск'!E18 -> 36 | F32: ='Город Томск'!F18 -> 4280 | G32: ='Город Томск'!G18 -> 1447 | H32: ='Город Томск'!H18 -> 2 | I32: ='Город Томск'!I18 -> 1103 | J32: ='Город Томск'!J18 -> 185
A33: ЗАТО Северск | B33: ='ЗАТО Северск'!B15 -> 16 | C33: ='ЗАТО Северск'!C15 -> 0 | D33: ='ЗАТО Северск'!D15 -> 9 | E33: ='ЗАТО Северск'!E15 -> 20 | F33: ='ЗАТО Северск'!F15 -> 1311 | G33: ='ЗАТО Северск'!G15 -> 418 | H33: ='ЗАТО Северск'!H15 -> 2 | I33: ='ЗАТО Северск'!I15 -> 213 | J33: ='ЗАТО Северск'!J15 -> 75
A34: ВСЕГО в муниципальном образовании | B34: =SUM(B14:B33) -> 229.47 | C34: =SUM(C14:C33) -> 23.31 | D34: =SUM(D14:D33) -> 126.25 | E34: =SUM(E14:E33) -> 321.75 | F34: =SUM(F14:F33) -> 30179 | G34: =SUM(G14:G33) -> 11577 | H34: =SUM(H14:H33) -> 70 | I34: =SUM(I14:I33) -> 3974 | J34: =SUM(J14:J33) -> 456
